BEGIN:VCALENDAR
PRODID:-//nuDatenautomaten//framework iCal4j //DE
VERSION:2.0
CALSCALE:GREGORIAN
BEGIN:VTIMEZONE
TZID:Europe/Berlin
LAST-MODIFIED:20260306T231828Z
TZURL:https://www.tzurl.org/zoneinfo/Europe/Berlin
X-LIC-LOCATION:Europe/Berlin
X-PROLEPTIC-TZNAME:LMT
BEGIN:STANDARD
TZNAME:CET
TZOFFSETFROM:+005328
TZOFFSETTO:+0100
DTSTART:18930401T000000
END:STANDARD
BEGIN:DAYLIGHT
TZNAME:CEST
TZOFFSETFROM:+0100
TZOFFSETTO:+0200
DTSTART:19160430T230000
RDATE:19400401T020000
RDATE:19430329T020000
RDATE:19460414T020000
RDATE:19470406T030000
RDATE:19480418T020000
RDATE:19490410T020000
RDATE:19800406T020000
END:DAYLIGHT
BEGIN:STANDARD
TZNAME:CET
TZOFFSETFROM:+0200
TZOFFSETTO:+0100
DTSTART:19161001T010000
RDATE:19421102T030000
RDATE:19431004T030000
RDATE:19441002T030000
RDATE:19451118T030000
RDATE:19461007T030000
END:STANDARD
BEGIN:DAYLIGHT
TZNAME:CEST
TZOFFSETFROM:+0100
TZOFFSETTO:+0200
DTSTART:19170416T020000
RRULE:FREQ=YEARLY;UNTIL=19180415T010000Z;BYMONTH=4;BYDAY=3MO
END:DAYLIGHT
BEGIN:STANDARD
TZNAME:CET
TZOFFSETFROM:+0200
TZOFFSETTO:+0100
DTSTART:19170917T030000
RRULE:FREQ=YEARLY;UNTIL=19180916T010000Z;BYMONTH=9;BYDAY=3MO
END:STANDARD
BEGIN:DAYLIGHT
TZNAME:CEST
TZOFFSETFROM:+0100
TZOFFSETTO:+0200
DTSTART:19440403T020000
RRULE:FREQ=YEARLY;UNTIL=19450402T010000Z;BYMONTH=4;BYDAY=1MO
END:DAYLIGHT
BEGIN:DAYLIGHT
TZNAME:CEMT
TZOFFSETFROM:+0200
TZOFFSETTO:+0300
DTSTART:19450524T020000
RDATE:19470511T030000
END:DAYLIGHT
BEGIN:DAYLIGHT
TZNAME:CEST
TZOFFSETFROM:+0300
TZOFFSETTO:+0200
DTSTART:19450924T030000
RDATE:19470629T030000
END:DAYLIGHT
BEGIN:STANDARD
TZNAME:CET
TZOFFSETFROM:+0100
TZOFFSETTO:+0100
DTSTART:19460101T000000
RDATE:19800101T000000
END:STANDARD
BEGIN:STANDARD
TZNAME:CET
TZOFFSETFROM:+0200
TZOFFSETTO:+0100
DTSTART:19471005T030000
RRULE:FREQ=YEARLY;UNTIL=19491002T010000Z;BYMONTH=10;BYDAY=1SU
END:STANDARD
BEGIN:STANDARD
TZNAME:CET
TZOFFSETFROM:+0200
TZOFFSETTO:+0100
DTSTART:19800928T030000
RRULE:FREQ=YEARLY;UNTIL=19950924T010000Z;BYMONTH=9;BYDAY=-1SU
END:STANDARD
BEGIN:DAYLIGHT
TZNAME:CEST
TZOFFSETFROM:+0100
TZOFFSETTO:+0200
DTSTART:19810329T020000
RRULE:FREQ=YEARLY;BYMONTH=3;BYDAY=-1SU
END:DAYLIGHT
BEGIN:STANDARD
TZNAME:CET
TZOFFSETFROM:+0200
TZOFFSETTO:+0100
DTSTART:19961027T030000
RRULE:FREQ=YEARLY;BYMONTH=10;BYDAY=-1SU
END:STANDARD
END:VTIMEZONE
BEGIN:VEVENT
DTSTAMP:20260422T235435Z
DTSTART;TZID=Europe/Berlin:20160929T201500
DTEND;TZID=Europe/Berlin:20160929T231500
SUMMARY:3. Kreisklasse B MTV Ellerhoop II vs SV Friedrichsgabe VI (16)
UID:83382edf-7938-598e-e053-1fc7a80a5d7a
STATUS:CONFIRMED
LAST-MODIFIED:20190303T213920Z
DESCRIPTION:Herren - 3. Kreisklasse B\nBegegnungs-Nr: 16\nHeim: MTV Ellerhoop II\nGast: SV Friedrichsgabe VI\n
LOCATION:
CATEGORIES:Saison 2016/17
END:VEVENT
BEGIN:VEVENT
DTSTAMP:20260422T235435Z
DTSTART;TZID=Europe/Berlin:20161013T201500
DTEND;TZID=Europe/Berlin:20161013T231500
SUMMARY:3. Kreisklasse B MTV Ellerhoop II vs TSV Uetersen VII (26)
UID:83382edf-79f9-598e-e053-1fc7a80a5d7a
STATUS:CONFIRMED
LAST-MODIFIED:20190303T213921Z
DESCRIPTION:Herren - 3. Kreisklasse B\nBegegnungs-Nr: 26\nHeim: MTV Ellerhoop II\nGast: TSV Uetersen VII\n
LOCATION:
CATEGORIES:Saison 2016/17
END:VEVENT
BEGIN:VEVENT
DTSTAMP:20260422T235435Z
DTSTART;TZID=Europe/Berlin:20160922T201500
DTEND;TZID=Europe/Berlin:20160922T231500
SUMMARY:3. Kreisklasse B MTV Ellerhoop II vs Post SV Elmshorn  (9)
UID:83382edf-7da0-598e-e053-1fc7a80a5d7a
STATUS:CONFIRMED
LAST-MODIFIED:20190303T213921Z
DESCRIPTION:Herren - 3. Kreisklasse B\nBegegnungs-Nr: 9\nHeim: MTV Ellerhoop II\nGast: Post SV Elmshorn \n
LOCATION:
CATEGORIES:Saison 2016/17
END:VEVENT
BEGIN:VEVENT
DTSTAMP:20260422T235435Z
DTSTART;TZID=Europe/Berlin:20161110T201500
DTEND;TZID=Europe/Berlin:20161110T231500
SUMMARY:3. Kreisklasse B MTV Ellerhoop II vs TSV Prisdorf III (38)
UID:83382edf-7b02-598e-e053-1fc7a80a5d7a
STATUS:CONFIRMED
LAST-MODIFIED:20190303T213921Z
DESCRIPTION:Herren - 3. Kreisklasse B\nBegegnungs-Nr: 38\nHeim: MTV Ellerhoop II\nGast: TSV Prisdorf III\n
LOCATION:
CATEGORIES:Saison 2016/17
END:VEVENT
BEGIN:VEVENT
DTSTAMP:20260422T235435Z
DTSTART;TZID=Europe/Berlin:20161121T201500
DTEND;TZID=Europe/Berlin:20161121T231500
SUMMARY:3. Kreisklasse B MTV Ellerhoop II vs SV Groß Nordende  (43)
UID:83382edf-7b6f-598e-e053-1fc7a80a5d7a
STATUS:CONFIRMED
LAST-MODIFIED:20190303T213921Z
DESCRIPTION:Herren - 3. Kreisklasse B\nBegegnungs-Nr: 43\nHeim: MTV Ellerhoop II\nGast: SV Groß Nordende \n
LOCATION:
CATEGORIES:Saison 2016/17
END:VEVENT
BEGIN:VEVENT
DTSTAMP:20260422T235435Z
DTSTART;TZID=Europe/Berlin:20170223T201500
DTEND;TZID=Europe/Berlin:20170223T231500
SUMMARY:3. Kreisklasse B MTV Ellerhoop II vs SV Hörnerkirchen III (21)
UID:83382edf-7eb1-598e-e053-1fc7a80a5d7a
STATUS:CONFIRMED
LAST-MODIFIED:20190303T213921Z
DESCRIPTION:Herren - 3. Kreisklasse B\nBegegnungs-Nr: 21\nHeim: MTV Ellerhoop II\nGast: SV Hörnerkirchen III\n
LOCATION:
CATEGORIES:Saison 2016/17
END:VEVENT
BEGIN:VEVENT
DTSTAMP:20260422T235435Z
DTSTART;TZID=Europe/Berlin:20161124T201500
DTEND;TZID=Europe/Berlin:20161124T231500
SUMMARY:3. Kreisklasse B MTV Ellerhoop II vs SuS Waldenau III (51)
UID:83382edf-7c2d-598e-e053-1fc7a80a5d7a
STATUS:CONFIRMED
LAST-MODIFIED:20190303T213921Z
DESCRIPTION:Herren - 3. Kreisklasse B\nBegegnungs-Nr: 51\nHeim: MTV Ellerhoop II\nGast: SuS Waldenau III\n
LOCATION:
CATEGORIES:Saison 2016/17
END:VEVENT
BEGIN:VEVENT
DTSTAMP:20260422T235435Z
DTSTART;TZID=Europe/Berlin:20170323T201500
DTEND;TZID=Europe/Berlin:20170323T231500
SUMMARY:3. Kreisklasse B MTV Ellerhoop II vs TuS Esingen VI (45)
UID:83382edf-80d7-598e-e053-1fc7a80a5d7a
STATUS:CONFIRMED
LAST-MODIFIED:20190303T213922Z
DESCRIPTION:Herren - 3. Kreisklasse B\nBegegnungs-Nr: 45\nHeim: MTV Ellerhoop II\nGast: TuS Esingen VI\n
LOCATION:
CATEGORIES:Saison 2016/17
END:VEVENT
BEGIN:VEVENT
DTSTAMP:20260422T235435Z
DTSTART;TZID=Europe/Berlin:20170330T201500
DTEND;TZID=Europe/Berlin:20170330T231500
SUMMARY:3. Kreisklasse B MTV Ellerhoop II vs Hetlinger MTV II (50)
UID:83382edf-813f-598e-e053-1fc7a80a5d7a
STATUS:CONFIRMED
LAST-MODIFIED:20190303T213922Z
DESCRIPTION:Herren - 3. Kreisklasse B\nBegegnungs-Nr: 50\nHeim: MTV Ellerhoop II\nGast: Hetlinger MTV II\n
LOCATION:
CATEGORIES:Saison 2016/17
END:VEVENT
BEGIN:VEVENT
DTSTAMP:20260422T235435Z
DTSTART;TZID=Europe/Berlin:20170119T201500
DTEND;TZID=Europe/Berlin:20170119T231500
SUMMARY:3. Kreisklasse B MTV Ellerhoop II vs TSV Seestermüher Marsch  (62)
UID:83382edf-8232-598e-e053-1fc7a80a5d7a
STATUS:CONFIRMED
LAST-MODIFIED:20190303T213922Z
DESCRIPTION:Herren - 3. Kreisklasse B\nBegegnungs-Nr: 62\nHeim: MTV Ellerhoop II\nGast: TSV Seestermüher Marsch \n
LOCATION:
CATEGORIES:Saison 2016/17
END:VEVENT
BEGIN:VEVENT
DTSTAMP:20260422T235435Z
DTSTART;TZID=Europe/Berlin:20170209T201500
DTEND;TZID=Europe/Berlin:20170209T231500
SUMMARY:3. Kreisklasse B MTV Ellerhoop II vs Moorreger SV VI (9)
UID:83382edf-82a8-598e-e053-1fc7a80a5d7a
STATUS:CONFIRMED
LAST-MODIFIED:20190303T213922Z
DESCRIPTION:Herren - 3. Kreisklasse B\nBegegnungs-Nr: 9\nHeim: MTV Ellerhoop II\nGast: Moorreger SV VI\n
LOCATION:
CATEGORIES:Saison 2016/17
END:VEVENT
BEGIN:VEVENT
DTSTAMP:20260422T235435Z
DTSTART;TZID=Europe/Berlin:20161130T201500
DTEND;TZID=Europe/Berlin:20161130T231500
SUMMARY:3. Kreisklasse B TuS Esingen VI vs MTV Ellerhoop II (56)
UID:83382edf-7c95-598e-e053-1fc7a80a5d7a
STATUS:CONFIRMED
LAST-MODIFIED:20190303T213921Z
DESCRIPTION:Herren - 3. Kreisklasse B\nBegegnungs-Nr: 56\nHeim: TuS Esingen VI\nGast: MTV Ellerhoop II\n
LOCATION:
CATEGORIES:Saison 2016/17
END:VEVENT
BEGIN:VEVENT
DTSTAMP:20260422T235435Z
DTSTART;TZID=Europe/Berlin:20161209T201500
DTEND;TZID=Europe/Berlin:20161209T231500
SUMMARY:3. Kreisklasse B Hetlinger MTV II vs MTV Ellerhoop II (64)
UID:83382edf-7d42-598e-e053-1fc7a80a5d7a
STATUS:CONFIRMED
LAST-MODIFIED:20190303T213921Z
DESCRIPTION:Herren - 3. Kreisklasse B\nBegegnungs-Nr: 64\nHeim: Hetlinger MTV II\nGast: MTV Ellerhoop II\n
LOCATION:
CATEGORIES:Saison 2016/17
END:VEVENT
BEGIN:VEVENT
DTSTAMP:20260422T235435Z
DTSTART;TZID=Europe/Berlin:20161212T201500
DTEND;TZID=Europe/Berlin:20161212T231500
SUMMARY:3. Kreisklasse B Moorreger SV VI vs MTV Ellerhoop II (66)
UID:83382edf-7d6a-598e-e053-1fc7a80a5d7a
STATUS:CONFIRMED
LAST-MODIFIED:20190303T213921Z
DESCRIPTION:Herren - 3. Kreisklasse B\nBegegnungs-Nr: 66\nHeim: Moorreger SV VI\nGast: MTV Ellerhoop II\n
LOCATION:
CATEGORIES:Saison 2016/17
END:VEVENT
BEGIN:VEVENT
DTSTAMP:20260422T235435Z
DTSTART;TZID=Europe/Berlin:20161104T201500
DTEND;TZID=Europe/Berlin:20161104T231500
SUMMARY:3. Kreisklasse B SV Hörnerkirchen III vs MTV Ellerhoop II (35)
UID:83382edf-7ac6-598e-e053-1fc7a80a5d7a
STATUS:CONFIRMED
LAST-MODIFIED:20190303T213921Z
DESCRIPTION:Herren - 3. Kreisklasse B\nBegegnungs-Nr: 35\nHeim: SV Hörnerkirchen III\nGast: MTV Ellerhoop II\n
LOCATION:
CATEGORIES:Saison 2016/17
END:VEVENT
BEGIN:VEVENT
DTSTAMP:20260422T235435Z
DTSTART;TZID=Europe/Berlin:20170215T201500
DTEND;TZID=Europe/Berlin:20170215T231500
SUMMARY:3. Kreisklasse B TSV Uetersen VII vs MTV Ellerhoop II (15)
UID:83382edf-7e29-598e-e053-1fc7a80a5d7a
STATUS:CONFIRMED
LAST-MODIFIED:20190303T213921Z
DESCRIPTION:Herren - 3. Kreisklasse B\nBegegnungs-Nr: 15\nHeim: TSV Uetersen VII\nGast: MTV Ellerhoop II\n
LOCATION:
CATEGORIES:Saison 2016/17
END:VEVENT
BEGIN:VEVENT
DTSTAMP:20260422T235435Z
DTSTART;TZID=Europe/Berlin:20170302T201500
DTEND;TZID=Europe/Berlin:20170302T231500
SUMMARY:3. Kreisklasse B TSV Prisdorf III vs MTV Ellerhoop II (27)
UID:83382edf-7f30-598e-e053-1fc7a80a5d7a
STATUS:CONFIRMED
LAST-MODIFIED:20190303T213922Z
DESCRIPTION:Herren - 3. Kreisklasse B\nBegegnungs-Nr: 27\nHeim: TSV Prisdorf III\nGast: MTV Ellerhoop II\n
LOCATION:
CATEGORIES:Saison 2016/17
END:VEVENT
BEGIN:VEVENT
DTSTAMP:20260422T235435Z
DTSTART;TZID=Europe/Berlin:20160916T201500
DTEND;TZID=Europe/Berlin:20160916T231500
SUMMARY:3. Kreisklasse B TSV Seestermüher Marsch  vs MTV Ellerhoop II (5)
UID:83382edf-7c03-598e-e053-1fc7a80a5d7a
STATUS:CONFIRMED
LAST-MODIFIED:20190303T213921Z
DESCRIPTION:Herren - 3. Kreisklasse B\nBegegnungs-Nr: 5\nHeim: TSV Seestermüher Marsch \nGast: MTV Ellerhoop II\n
LOCATION:
CATEGORIES:Saison 2016/17
END:VEVENT
BEGIN:VEVENT
DTSTAMP:20260422T235435Z
DTSTART;TZID=Europe/Berlin:20170131T201500
DTEND;TZID=Europe/Berlin:20170131T231500
SUMMARY:3. Kreisklasse B SV Friedrichsgabe VI vs MTV Ellerhoop II (3)
UID:83382edf-7f70-598e-e053-1fc7a80a5d7a
STATUS:CONFIRMED
LAST-MODIFIED:20190303T213922Z
DESCRIPTION:Herren - 3. Kreisklasse B\nBegegnungs-Nr: 3\nHeim: SV Friedrichsgabe VI\nGast: MTV Ellerhoop II\n
LOCATION:
CATEGORIES:Saison 2016/17
END:VEVENT
BEGIN:VEVENT
DTSTAMP:20260422T235435Z
DTSTART;TZID=Europe/Berlin:20170308T201500
DTEND;TZID=Europe/Berlin:20170308T231500
SUMMARY:3. Kreisklasse B SV Groß Nordende  vs MTV Ellerhoop II (33)
UID:83382edf-7fbb-598e-e053-1fc7a80a5d7a
STATUS:CONFIRMED
LAST-MODIFIED:20190303T213922Z
DESCRIPTION:Herren - 3. Kreisklasse B\nBegegnungs-Nr: 33\nHeim: SV Groß Nordende \nGast: MTV Ellerhoop II\n
LOCATION:
CATEGORIES:Saison 2016/17
END:VEVENT
BEGIN:VEVENT
DTSTAMP:20260422T235435Z
DTSTART;TZID=Europe/Berlin:20170317T201500
DTEND;TZID=Europe/Berlin:20170317T231500
SUMMARY:3. Kreisklasse B SuS Waldenau III vs MTV Ellerhoop II (39)
UID:83382edf-803e-598e-e053-1fc7a80a5d7a
STATUS:CONFIRMED
LAST-MODIFIED:20190303T213922Z
DESCRIPTION:Herren - 3. Kreisklasse B\nBegegnungs-Nr: 39\nHeim: SuS Waldenau III\nGast: MTV Ellerhoop II\n
LOCATION:
CATEGORIES:Saison 2016/17
END:VEVENT
BEGIN:VEVENT
DTSTAMP:20260422T235435Z
DTSTART;TZID=Europe/Berlin:20170125T201500
DTEND;TZID=Europe/Berlin:20170125T231500
SUMMARY:3. Kreisklasse B Post SV Elmshorn  vs MTV Ellerhoop II (55)
UID:83382edf-818f-598e-e053-1fc7a80a5d7a
STATUS:CONFIRMED
LAST-MODIFIED:20190303T213922Z
DESCRIPTION:Herren - 3. Kreisklasse B\nBegegnungs-Nr: 55\nHeim: Post SV Elmshorn \nGast: MTV Ellerhoop II\n
LOCATION:
CATEGORIES:Saison 2016/17
END:VEVENT
END:VCALENDAR
